BEGIN:VCALENDAR
VERSION:2.0
PRODID:-//SESOC - ECPv5.2.0//NONSGML v1.0//EN
CALSCALE:GREGORIAN
METHOD:PUBLISH
X-WR-CALNAME:SESOC
X-ORIGINAL-URL:https://www.sesoc.org.nz
X-WR-CALDESC:Events for SESOC
BEGIN:VTIMEZONE
TZID:Pacific/Auckland
BEGIN:STANDARD
TZOFFSETFROM:+1300
TZOFFSETTO:+1200
TZNAME:NZST
DTSTART:20210403T140000
END:STANDARD
BEGIN:DAYLIGHT
TZOFFSETFROM:+1200
TZOFFSETTO:+1300
TZNAME:NZDT
DTSTART:20210925T140000
END:DAYLIGHT
END:VTIMEZONE
BEGIN:VEVENT
DTSTART;TZID=Pacific/Auckland:20210513T173000
DTEND;TZID=Pacific/Auckland:20210513T200000
DTSTAMP:20260420T125520
CREATED:20210510T084505Z
LAST-MODIFIED:20210510T084505Z
UID:3989-1620927000-1620936000@www.sesoc.org.nz
SUMMARY:Emerging Structural Engineers Network – Lightning Talks
DESCRIPTION:Emerging Structural Engineers Network – Lightning Talks \nSESOC ESE are kicking off a new series of events – Lightning Talks. These events will be a chance for our emerging engineers to share the projects they are working on\, and open some discussion around challenges and lessons learned. \nThursday 13 May\nAurecon\, Level 1 Iwikau Building\, 93 Cambridge Terrace\, Christchurch\n5.30pm networking and drinks for 6pm start \nThe Christchurch launch will be held on the 13th May and features five of our emerging structural engineers. Each engineer will have 5-10 minutes to give a brief insight into a project they are working on – whether that be a technical challenge\, design overview\, construction monitoring\, or project management. \nOur presenters for this kick-off event will include: \nJoshua Cornish – Construction Monitoring at Linwood College\nJoshua is a structural engineer who has worked at Aurecon since graduating in 2017. His recent project experience with the redevelopment of Linwood College\, in particular the Construction Monitoring phase of 4 new classroom blocks\, will be the basis for his presentation. He will share some of the challenges and lessons learned as part of this process. \nSophie Woodhams – CDHB Energy Centre\nSophie is a graduate engineer with Holmes Consulting\, and has worked on a wide range of commercial structures. She is going to share her project experience on the CDHB Energy Centre\, looking at the coordination challenges the design team faced\, and the benefits and pitfalls of BIM. \nEdbert Livia – Designing a sculpture? How?\nEdbert is a structural engineer with Lewis Bradford Consulting Engineers. Born in Indonesia\, he moved to New Zealand in 2015 to study Civil Engineering. Edbert will share some of the unique design challenges when it comes to sculptural design. \nBen Exton – Temporary Works Lessons\nBen is a structural engineer who has worked for both Structex and Building Revolutions in Christchurch since graduating in 2016. He has continued study in Earthquake Engineering since\, and has a keen interest in innovation in this field. Temporary works design and construction requires a combination of clear communication and risk awareness. Ben will cover some key lessons learnt in some recent temporary works projects\, including the repair of the New Brighton Pier. \nWilliam Southby – Managing a Portfolio\nWilliam has worked at Calibre Consulting since graduating in 2016. His latest project\, managing the Totalspan Portfolio\, involves managing a team of 15 engineers across the country to provide design services to the Totalspan Franchises across the country. He will share some of the challenges of coordinating people across different offices\, as well as managing quality\, timeframes\, and finances. \n  \nAfter the presentations there will be time for questions and discussion\, followed by food and drink. \nThese events will be held regularly throughout the year to give all of our ESE members the chance to share what they are working on. If you are interested in sharing your experience\, please send us an email at: ese-chair@sesoc.org.nz \nFollow the link below to RSVP to the event: \nhttps://forms.gle/x2GQkjfeei7Zh4x7A
URL:https://www.sesoc.org.nz/event/emerging-structural-engineers-network-lightning-talks
LOCATION:Aurecon\, Level 1 Iwikau Building\, 93 Cambridge Terrace\, Christchurch\, 93 cambridge terrace\, Christchurch\, New Zealand
CATEGORIES:Christchurch,Emerging Structural Engineer
END:VEVENT
END:VCALENDAR