BEGIN:VCALENDAR
VERSION:2.0
PRODID:-//SESOC - ECPv5.2.0//NONSGML v1.0//EN
CALSCALE:GREGORIAN
METHOD:PUBLISH
X-WR-CALNAME:SESOC
X-ORIGINAL-URL:https://www.sesoc.org.nz
X-WR-CALDESC:Events for SESOC
BEGIN:VTIMEZONE
TZID:Pacific/Auckland
BEGIN:STANDARD
TZOFFSETFROM:+1300
TZOFFSETTO:+1200
TZNAME:NZST
DTSTART:20190406T140000
END:STANDARD
BEGIN:DAYLIGHT
TZOFFSETFROM:+1200
TZOFFSETTO:+1300
TZNAME:NZDT
DTSTART:20190928T140000
END:DAYLIGHT
END:VTIMEZONE
BEGIN:VEVENT
DTSTART;TZID=Pacific/Auckland:20190327T173000
DTEND;TZID=Pacific/Auckland:20190327T193000
DTSTAMP:20260423T143714
CREATED:20190319T030024Z
LAST-MODIFIED:20190319T030024Z
UID:3063-1553707800-1553715000@www.sesoc.org.nz
SUMMARY:ESE Network – Christchurch Launch – “Things I learnt the hard way”
DESCRIPTION:SESOC is excited to announce the launch of the Emerging Structural Engineers Network in Christchurch\, following a successful kickoff in Auckland. \nWednesday 27 March\nWSP Opus\, Level 4\, 12 Moorhouse Avenue\, Addington\, Christchurch\n5.30pm networking and drinks for 6pm start \nThe Christchurch launch will be held on the 27th of March and features a panel of speakers from a range of experience levels in the structural engineering industry. Whether it be technical challenges in design or construction projects\, building relationships with clients and colleagues or the development of professional skills\, the transition from university student to professional engineer can be tough – come and learn from the experiences of those that have been there as our panellists share their “things I learnt the hard way”. \nAfter the panel session and questions\, stay for a tipple and a bite\, and a chat with some like-minded structural engineers. \nOur three panelists are: \nChris Burrell-Smith\nChris is a Chartered Professional Structural engineer and an associate and shareholder with Richards Consulting Engineers. Chris started his career in Christchurch just after the Darfield 2010 earthquake and was fully involved in the assessment and remediation of damaged educational\, commercial and residential structures from the start of his career. He has since worked on a variety of structural projects\, working closely with architects\, developers\, local authorities\, and home owners. Chris has focused on ensuring that the solutions produced are appropriate for the client and project requirements. Chris now manages the technical systems and training for 10 other engineers. \nHelen Trappitt\nHelen is a structural engineer\, director and shareholder at Lewis Bradford Consulting Engineers based in Christchurch. Since graduating from the University of Canterbury with BE(Hons) in 2000\, she has gone on to become a member of the Industry Advisory Board for the University of Canterbury Civil and Natural Resources Engineering department. Helen specialises in the seismic strengthening of heritage buildings and has experience in this sector both before and after the Canterbury earthquake sequence. This led to her appointment as a Director of Christ Church Cathedral Reinstatement Ltd in 2018. Recently Helen was awarded the Engineering New Zealand Canterbury Branch Award for Excellence in Service to the Community\, which recognised her pro bono work with Gap Filler\, CoCA\, FESTA\, SCAPE Public Art and promoting engineering careers in girls’ schools. \nScott Davies-Colley\nA design Engineer with Holmes Consulting in Christchurch\, Scott arrived at the University of Canterbury to start his engineering degree the week of the February 2011 Canterbury earthquake. The subsequent rebuild in Christchurch has formed a large part of his engineering career. With the immense extent of work required for the rebuild of a city\, Scott has had opportunities to work on a vast array of projects. These have included heritage URM buildings\, green field site projects such as Rolleston Secondary School and recently a new multi-storey low damage base isolated office building at 2 Cathedral Square. This has provided an opportunity to see projects through the complete process\, from concept design to completion of construction. \nFourth speaker will be confirmed shortly. \nFollow the link below to RSVP to the event: \n  \nhttps://goo.gl/forms/pQ4gcdYb7vtXeXOl2
URL:https://www.sesoc.org.nz/event/ese-network-christchurch-launch-things-i-learnt-the-hard-way
LOCATION:WSP OPUS\, Level 4\, 12 Moorhouse Avenue\, Christchurch\, New Zealand
CATEGORIES:Christchurch,Emerging Structural Engineer
END:VEVENT
END:VCALENDAR