BEGIN:VCALENDAR
VERSION:2.0
PRODID:-//SESOC - ECPv5.2.0//NONSGML v1.0//EN
CALSCALE:GREGORIAN
METHOD:PUBLISH
X-WR-CALNAME:SESOC
X-ORIGINAL-URL:https://www.sesoc.org.nz
X-WR-CALDESC:Events for SESOC
BEGIN:VTIMEZONE
TZID:Pacific/Auckland
BEGIN:STANDARD
TZOFFSETFROM:+1300
TZOFFSETTO:+1200
TZNAME:NZST
DTSTART:20190406T140000
END:STANDARD
BEGIN:DAYLIGHT
TZOFFSETFROM:+1200
TZOFFSETTO:+1300
TZNAME:NZDT
DTSTART:20190928T140000
END:DAYLIGHT
END:VTIMEZONE
BEGIN:VEVENT
DTSTART;TZID=Pacific/Auckland:20190226T180000
DTEND;TZID=Pacific/Auckland:20190226T200000
DTSTAMP:20260423T114419
CREATED:20190207T012537Z
LAST-MODIFIED:20190207T012658Z
UID:3027-1551204000-1551211200@www.sesoc.org.nz
SUMMARY:SESOC Annual General Meeting
DESCRIPTION:This year’s Annual General Meeting will be held: \nTuesday 26 February\, 6pm\nEngineering New Zealand\, Meeting Room Kopa\, L6 NEC House\, 40 Taranaki Street\, Wellington 
URL:https://www.sesoc.org.nz/event/sesoc-annual-general-meeting
LOCATION:Engineering NZ\, L6 NEC House\, 40 Taranaki Street\, Wellington\, New Zealand
CATEGORIES:Meeting,Wellington
END:VEVENT
END:VCALENDAR