BEGIN:VCALENDAR
VERSION:2.0
PRODID:-//SESOC - ECPv5.2.0//NONSGML v1.0//EN
CALSCALE:GREGORIAN
METHOD:PUBLISH
X-WR-CALNAME:SESOC
X-ORIGINAL-URL:https://www.sesoc.org.nz
X-WR-CALDESC:Events for SESOC
BEGIN:VTIMEZONE
TZID:UTC
BEGIN:STANDARD
TZOFFSETFROM:+0000
TZOFFSETTO:+0000
TZNAME:UTC
DTSTART:20180101T000000
END:STANDARD
END:VTIMEZONE
BEGIN:VEVENT
DTSTART;VALUE=DATE:20180315
DTEND;VALUE=DATE:20180316
DTSTAMP:20260421T195722
CREATED:20180308T072830Z
LAST-MODIFIED:20180312T074819Z
UID:59-1521072000-1521158399@www.sesoc.org.nz
SUMMARY:SESOC Executive Meeting
DESCRIPTION:
URL:https://www.sesoc.org.nz/event/sesoc-executive-meeting
LOCATION:Teleconference
END:VEVENT
END:VCALENDAR