BEGIN:VCALENDAR
VERSION:2.0
PRODID:-//SESOC - ECPv5.2.0//NONSGML v1.0//EN
CALSCALE:GREGORIAN
METHOD:PUBLISH
X-WR-CALNAME:SESOC
X-ORIGINAL-URL:https://www.sesoc.org.nz
X-WR-CALDESC:Events for SESOC
BEGIN:VTIMEZONE
TZID:Pacific/Auckland
BEGIN:STANDARD
TZOFFSETFROM:+1300
TZOFFSETTO:+1200
TZNAME:NZST
DTSTART:20230401T140000
END:STANDARD
BEGIN:DAYLIGHT
TZOFFSETFROM:+1200
TZOFFSETTO:+1300
TZNAME:NZDT
DTSTART:20230923T140000
END:DAYLIGHT
END:VTIMEZONE
BEGIN:VEVENT
DTSTART;TZID=Pacific/Auckland:20231031T083000
DTEND;TZID=Pacific/Auckland:20231031T131500
DTSTAMP:20260422T010713
CREATED:20230614T225235Z
LAST-MODIFIED:20230614T230134Z
UID:5321-1698741000-1698758100@www.sesoc.org.nz
SUMMARY:SESOC Seminar Whangarei – Seismic Soil-Structure Interaction: Part 1 – Shallow Foundations
DESCRIPTION:October 31\nWhangarei \nPlease note that this is a morning seminar\nRegistration at 8:30 am\nSeminar starts at 8:45 am\nSeminar ends at 1:15 pm \n  \nJoin us in October 2023 as SESOC and New Zealand Geotechnical Society collaborate in presenting a seminar on Seismic Soil-Structure Interaction: Part 1 – Shallow Foundations \nSoil-foundation-structure interaction (SFSI) is present on all soil sites and can play a significant role in the seismic performance of a building. \nJoin our speakers Stuart Oliver and Maxim Millen as they cover the benefits and drawbacks of nonlinear SFSI mechanisms. The seminar will focus on the inclusion of SFSI within the NZ Seismic Assessment Guidelines procedure. They will also cover the proposed changes for NZS1170.5 for rocking foundations. \nThis seminar is suitable for engineers at all experience levels\, especially Structural engineers designing low\, mid and high-rise buildings and Geotechnical engineers involved in designing shallow foundations. \nRegister Now!\nFor group registration\, please use this link \nRegistration fees:\nSESOC/NZGS members – $400 + GST per person\nNon-members – $480 + GST per person \nFor more details\, check out the brochure
URL:https://www.sesoc.org.nz/event/sesoc-seminar-seismic-soil-structure-interaction-part-1-shallow-foundations
LOCATION:Comfort Hotel Flames\, 8 Waverley Street\, Onerahi\,\, Whangarei\, 0110
END:VEVENT
END:VCALENDAR