BEGIN:VCALENDAR
VERSION:2.0
PRODID:-//SESOC - ECPv5.2.0//NONSGML v1.0//EN
CALSCALE:GREGORIAN
METHOD:PUBLISH
X-WR-CALNAME:SESOC
X-ORIGINAL-URL:https://www.sesoc.org.nz
X-WR-CALDESC:Events for SESOC
BEGIN:VTIMEZONE
TZID:Pacific/Auckland
BEGIN:STANDARD
TZOFFSETFROM:+1300
TZOFFSETTO:+1200
TZNAME:NZST
DTSTART:20230401T140000
END:STANDARD
BEGIN:DAYLIGHT
TZOFFSETFROM:+1200
TZOFFSETTO:+1300
TZNAME:NZDT
DTSTART:20230923T140000
END:DAYLIGHT
END:VTIMEZONE
BEGIN:VEVENT
DTSTART;TZID=Pacific/Auckland:20231011T123000
DTEND;TZID=Pacific/Auckland:20231011T171500
DTSTAMP:20260422T064851
CREATED:20230521T233201Z
LAST-MODIFIED:20230614T225958Z
UID:5264-1697027400-1697044500@www.sesoc.org.nz
SUMMARY:SESOC Seminar Christchurch – Seismic Soil-Structure Interaction: Part 1 - Shallow Foundations
DESCRIPTION:October 11\nChristchurch\n \nRegistration at 12:30 pm\nSeminar starts at 12:45 pm\nSeminar ends at 5:15 pm \n  \nJoin us in October 2023 as SESOC and New Zealand Geotechnical Society collaborate in presenting a seminar on Seismic Soil-Structure Interaction: Part 1 – Shallow Foundations \nSoil-foundation-structure interaction (SFSI) is present on all soil sites and can play a significant role in the seismic performance of a building. \nJoin our speakers Stuart Oliver and Maxim Millen as they cover the benefits and drawbacks of nonlinear SFSI mechanisms. The seminar will focus on the inclusion of SFSI within the NZ Seismic Assessment Guidelines procedure. They will also cover the proposed changes for NZS1170.5 for rocking foundations. \nThis seminar is suitable for engineers at all experience levels\, especially Structural engineers designing low\, mid and high-rise buildings and Geotechnical engineers involved in designing shallow foundations. \nRegister Now!\nFor group registration\, please use this link \nRegistration fees:\nSESOC/NZGS members – $400 + GST per person\nNon-members – $480 + GST per person \nFor more details\, check out the brochure \n 
URL:https://www.sesoc.org.nz/event/sesoc-seminar-soil-chch
LOCATION:Novotel Christchurch Cathedral Square\, 52 Cathedral Square\, Christchurch\, 8011\, New Zealand
CATEGORIES:Christchurch
END:VEVENT
END:VCALENDAR