BEGIN:VCALENDAR
VERSION:2.0
PRODID:-//SESOC - ECPv5.2.0//NONSGML v1.0//EN
CALSCALE:GREGORIAN
METHOD:PUBLISH
X-WR-CALNAME:SESOC
X-ORIGINAL-URL:https://www.sesoc.org.nz
X-WR-CALDESC:Events for SESOC
BEGIN:VTIMEZONE
TZID:Pacific/Auckland
BEGIN:STANDARD
TZOFFSETFROM:+1300
TZOFFSETTO:+1200
TZNAME:NZST
DTSTART:20240406T140000
END:STANDARD
BEGIN:DAYLIGHT
TZOFFSETFROM:+1200
TZOFFSETTO:+1300
TZNAME:NZDT
DTSTART:20240928T140000
END:DAYLIGHT
END:VTIMEZONE
BEGIN:VEVENT
DTSTART;TZID=Pacific/Auckland:20240729T124500
DTEND;TZID=Pacific/Auckland:20240729T170000
DTSTAMP:20260415T061855
CREATED:20240129T232135Z
LAST-MODIFIED:20240623T235335Z
UID:5586-1722257100-1722272400@www.sesoc.org.nz
SUMMARY:SESOC Seminar Queenstown - Detailed Engineered Timber Design
DESCRIPTION:SESOC Seminar – Detailed Engineered Timber Design:\n1. Durability and Moisture Management\n2. Realising Design Impacts on Build Costs\n \nJuly 29\, 2024 (Monday)\nQueenstown\nCopthorne Hotel & Resort Lakefront\nCorner Frankton Rd & Adelaide St Queenstown \nRegistration 12:45 pm\nThe seminar starts at 1:00 pm\nThe Seminar finishes at 5:00 pm \nJoin Bjørn Stankowitz and Andy van Houtte when they present Detailed Engineered Timber Design – focusing on two topics: \n\nDurability & moisture management\nRealising design impact on building costs\n\nThe two topics in this seminar can influence the viability of a timber project and be vital for the immediate and long-term success of a timber building. This will be a great discussion as these topics are often considered after structural design of a building rather than in conjunction with the design process. \nIn February\, Bjørn did an introductory presentation on moisture management which you can watch here. Bjørn will provide a thorough discussion about durability and moisture management at the seminar in July. \nAlso this seminar\, Andy Van Houtte will cover the following topics below to help answer the question ‘What design decisions impact the cost of timber building the most?’ \n\nDesign conundrums\nTimber building systems cost comparison\nMaterial and fixing capacity cost ratios\nConnections and CNC costs\nLabour/cranage/transport costs\nConstruction costs impacted by design\nSupply chain overview\nCost of moisture ingress during construction\n\nBy incorporating these thorough processes\, designers can not only safeguard structures but also deliver projects that meet developers’ needs for speed and efficiency. \nThis seminar is suitable for engineers at all experience levels. \nCheck out this brochure for more details \nRegister Now!\nSingle Registration\nGroud Registration \nInvestment details\nSESOC & TDS members – $400 + GST\nNon-members – $480 + GST \nFor any inquiries\, please contact Cheryll at info@cwevents.co.nz \n 
URL:https://www.sesoc.org.nz/event/ss10_qt
LOCATION:Copthorn Hotel & Resort Lakefront\, Corner Frankton Rd & Adelaide St\, Queenstown\, 9300\, New Zealand
CATEGORIES:Queenstown
END:VEVENT
END:VCALENDAR