BEGIN:VCALENDAR
VERSION:2.0
PRODID:-//SESOC - ECPv5.2.0//NONSGML v1.0//EN
CALSCALE:GREGORIAN
METHOD:PUBLISH
X-WR-CALNAME:SESOC
X-ORIGINAL-URL:https://www.sesoc.org.nz
X-WR-CALDESC:Events for SESOC
BEGIN:VTIMEZONE
TZID:Pacific/Auckland
BEGIN:STANDARD
TZOFFSETFROM:+1300
TZOFFSETTO:+1200
TZNAME:NZST
DTSTART:20240406T140000
END:STANDARD
BEGIN:DAYLIGHT
TZOFFSETFROM:+1200
TZOFFSETTO:+1300
TZNAME:NZDT
DTSTART:20240928T140000
END:DAYLIGHT
END:VTIMEZONE
BEGIN:VEVENT
DTSTART;TZID=Pacific/Auckland:20240726T084500
DTEND;TZID=Pacific/Auckland:20240726T130000
DTSTAMP:20260422T034206
CREATED:20240129T234216Z
LAST-MODIFIED:20240623T235408Z
UID:5603-1721983500-1721998800@www.sesoc.org.nz
SUMMARY:SESOC Seminar Tauranga - Detailed Engineered Timber Design
DESCRIPTION:SESOC Seminar – Detailed Engineered Timber Design:\n1. Durability and Moisture Management\n2. Realising Design Impacts on Build Costs\n \nJuly 26\, 2024 (Friday)\nTauranga\nMercury Baypark\n81 Truman Lane\, Mount Maunganui\, Tauranga \nRegistration 8:45 am\nThe seminar starts at 9:00 am\nThe Seminar finishes at 1:00 pm \nJoin Bjørn Stankowitz and Andy van Houtte when they present Detailed Engineered Timber Design – focusing on two topics: \n\nDurability & moisture management\nRealising design impact on building costs\n\nThe two topics in this seminar can influence the viability of a timber project and be vital for the immediate and long-term success of a timber building. This will be a great discussion as these topics are often considered after structural design of a building rather than in conjunction with the design process. \nIn February\, Bjørn did an introductory presentation on moisture management which you can watch here. Bjørn will provide a thorough discussion about durability and moisture management at the seminar in July. \nAlso this seminar\, Andy Van Houtte will cover the following topics below to help answer the question ‘What design decisions impact the cost of timber building the most?’ \n\nDesign conundrums\nTimber building systems cost comparison\nMaterial and fixing capacity cost ratios\nConnections and CNC costs\nLabour/cranage/transport costs\nConstruction costs impacted by design\nSupply chain overview\nCost of moisture ingress during construction\n\nBy incorporating these thorough processes\, designers can not only safeguard structures but also deliver projects that meet developers’ needs for speed and efficiency. \nThis seminar is suitable for engineers at all experience levels. \nCheck out this brochure for more details \nRegister Now!\nSingle Registration\nGroud Registration \nInvestment details\nSESOC & TDS members – $400 + GST\nNon-members – $480 + GST \nFor any inquiries\, please contact Cheryll at info@cwevents.co.nz \n 
URL:https://www.sesoc.org.nz/event/ss10_tau
LOCATION:Mercury Baypark\, 81 Truman Lane\, Mount Maunganui\, Tauranga\, New Zealand
CATEGORIES:Hamilton,Tauranga
END:VEVENT
END:VCALENDAR