BEGIN:VCALENDAR
VERSION:2.0
PRODID:-//SESOC - ECPv5.2.0//NONSGML v1.0//EN
CALSCALE:GREGORIAN
METHOD:PUBLISH
X-WR-CALNAME:SESOC
X-ORIGINAL-URL:https://www.sesoc.org.nz
X-WR-CALDESC:Events for SESOC
BEGIN:VTIMEZONE
TZID:Pacific/Auckland
BEGIN:STANDARD
TZOFFSETFROM:+1300
TZOFFSETTO:+1200
TZNAME:NZST
DTSTART:20230401T140000
END:STANDARD
BEGIN:DAYLIGHT
TZOFFSETFROM:+1200
TZOFFSETTO:+1300
TZNAME:NZDT
DTSTART:20230923T140000
END:DAYLIGHT
END:VTIMEZONE
BEGIN:VEVENT
DTSTART;TZID=Pacific/Auckland:20231107T123000
DTEND;TZID=Pacific/Auckland:20231107T173000
DTSTAMP:20260422T021909
CREATED:20230605T083656Z
LAST-MODIFIED:20230614T231259Z
UID:5283-1699360200-1699378200@www.sesoc.org.nz
SUMMARY:SESOC Seminar Christchurch - Steel Structure: Going back to the fundamentals
DESCRIPTION:November 7\, 2023\nChristchurch \nRegistration 12:30 pm\nSeminar Start 12:45 pm\nSeminar Finish 5:30 pm \nJoin us in November 2023 as SESOC Seminar Series presents a seminar on Steel Structures: Going back to the fundamentals \nStructural steel is one of the most widely used materials in New Zealand for multi-storey buildings for gravity systems and lateral load-resisting systems. Understanding and applying the fundamentals of steel design is very important. \nJoin our speakers Charles Clifton and Kevin Cowie as they cover the fundamentals of designing steel members\, connections and systems. They will end it with a progress report on the current revision of NZS 3404. They will also provide tips for good steel design practice and project delivery from a steel constructor’s perspective. \nThis seminar is for any engineers working for consultants\, clients\, building control authorities and contractors who are involved in the design\, fabrication\, and construction of buildings 2 or more storeys in height. \nFor more information\, check out the brochure. \nRegister Now!\nFor group registration\, please use this link \nSESOC/SCNZ members – $400 + GST per person\nNon-members – $480 + GST per person \nCheck out the brochure here. \n 
URL:https://www.sesoc.org.nz/event/ss9-chch
LOCATION:Sudima Airport Hotel\, Christchurch\, 550 Memorial Avenue\, Harewood\, Christchurch\, New Zealand
CATEGORIES:Christchurch
END:VEVENT
END:VCALENDAR