BEGIN:VCALENDAR
VERSION:2.0
PRODID:-//SESOC - ECPv5.2.0//NONSGML v1.0//EN
CALSCALE:GREGORIAN
METHOD:PUBLISH
X-WR-CALNAME:SESOC
X-ORIGINAL-URL:https://www.sesoc.org.nz
X-WR-CALDESC:Events for SESOC
BEGIN:VTIMEZONE
TZID:Pacific/Auckland
BEGIN:STANDARD
TZOFFSETFROM:+1300
TZOFFSETTO:+1200
TZNAME:NZST
DTSTART:20190406T140000
END:STANDARD
BEGIN:DAYLIGHT
TZOFFSETFROM:+1200
TZOFFSETTO:+1300
TZNAME:NZDT
DTSTART:20190928T140000
END:DAYLIGHT
END:VTIMEZONE
BEGIN:VEVENT
DTSTART;TZID=Pacific/Auckland:20190212T173000
DTEND;TZID=Pacific/Auckland:20190212T190000
DTSTAMP:20260423T091241
CREATED:20190207T004850Z
LAST-MODIFIED:20190207T004850Z
UID:2999-1549992600-1549998000@www.sesoc.org.nz
SUMMARY:The collapse of the Morandi bridge:  Chronicle of a death foretold?
DESCRIPTION:Professor Alessandro Palermo from the University of Canterbury will provide a presentation on the recent Morandi bridge collapse\, concluding with some lessons learned. \nDate                            Tuesday 12th February 2019 \nTime                            Social 5.30 – 6.00 pm (Presentation from 6.00pm) \nPlace                           Beca offices – ANZ Centre 267 High St\, Christchurch Central \nSpeaker                     Professor Alessandro Palermo \nTopic                           The collapse of the Morandi bridge:  Chronicle of a death foretold? \nRSVP:                          For catering purposes\, if you wish to attend the social part\, please email helenc@lewisbradford.com by midday Thursday 7 February. \nAbstract\nOn 14 August 2018\, the Ponte Morandi\, part of the Polcevera Viaduct in Genoa\, Italy\, partially collapsed without warning killing 43 people. Despite starting to show signs of deterioration in the 1990s and a number of proposals to replace the bridge in the intervening years\, few initiatives were undertaken in a meaningful manner. \nThe presentation explores the background and design philosophy of the designer Morandi\, overviews the construction and design of the Genoa bridge and highlights the possible causes of the collapse. The presentation concludes with some lessons learnt that could be relevant to New Zealand bridge infrastructure.
URL:https://www.sesoc.org.nz/event/the-collapse-of-the-morandi-bridge-chronicle-of-a-death-foretold
LOCATION:Beca Office\, Christchurch\, ANZ Centre - 267 High Street\, Christchurch\, New Zealand
CATEGORIES:Christchurch
END:VEVENT
END:VCALENDAR