BEGIN:VCALENDAR
VERSION:2.0
PRODID:-//SESOC - ECPv5.2.0//NONSGML v1.0//EN
CALSCALE:GREGORIAN
METHOD:PUBLISH
X-WR-CALNAME:SESOC
X-ORIGINAL-URL:https://www.sesoc.org.nz
X-WR-CALDESC:Events for SESOC
BEGIN:VTIMEZONE
TZID:Pacific/Auckland
BEGIN:STANDARD
TZOFFSETFROM:+1300
TZOFFSETTO:+1200
TZNAME:NZST
DTSTART:20190406T140000
END:STANDARD
BEGIN:DAYLIGHT
TZOFFSETFROM:+1200
TZOFFSETTO:+1300
TZNAME:NZDT
DTSTART:20190928T140000
END:DAYLIGHT
END:VTIMEZONE
BEGIN:VEVENT
DTSTART;TZID=Pacific/Auckland:20190502T173000
DTEND;TZID=Pacific/Auckland:20190502T190000
DTSTAMP:20260423T193540
CREATED:20190408T095413Z
LAST-MODIFIED:20190408T095413Z
UID:3086-1556818200-1556823600@www.sesoc.org.nz
SUMMARY:TWF meeting #2
DESCRIPTION:Date:          02 May 2019\, 5:30-7:00pm\nWhere:       Fulton Hogan Offices\n15 Sir William Pickering Dr\nBurnside\nChristchurch\nAgenda:     Presentations from Holmes\, RMD and Worksafe (TBC)\, followed by a workshop and networking.\nSponsor:      RMD (www.rmdnewzealand.co.nz)\nPlease register your attendance through Eventbrite.
URL:https://www.sesoc.org.nz/event/twf-meeting-2
LOCATION:Fulton Hogan (Christchurch)\,  15 Sir William Pickering Dr\, Burnside\, Christchurch\, New Zealand
CATEGORIES:Christchurch,Temporary Works Forum
END:VEVENT
END:VCALENDAR