BEGIN:VCALENDAR
VERSION:2.0
PRODID:-//SESOC - ECPv5.2.0//NONSGML v1.0//EN
CALSCALE:GREGORIAN
METHOD:PUBLISH
X-WR-CALNAME:SESOC
X-ORIGINAL-URL:https://www.sesoc.org.nz
X-WR-CALDESC:Events for SESOC
BEGIN:VTIMEZONE
TZID:Pacific/Auckland
BEGIN:STANDARD
TZOFFSETFROM:+1300
TZOFFSETTO:+1200
TZNAME:NZST
DTSTART:20260404T140000
END:STANDARD
BEGIN:DAYLIGHT
TZOFFSETFROM:+1200
TZOFFSETTO:+1300
TZNAME:NZDT
DTSTART:20260926T140000
END:DAYLIGHT
END:VTIMEZONE
BEGIN:VEVENT
DTSTART;TZID=Pacific/Auckland:20260316T124500
DTEND;TZID=Pacific/Auckland:20260316T170000
DTSTAMP:20260422T093240
CREATED:20251111T001158Z
LAST-MODIFIED:20251111T001158Z
UID:6397-1773665100-1773680400@www.sesoc.org.nz
SUMMARY:Steel Portal Frame Design - Napier
DESCRIPTION:Steel Portal Frame Design\nNapier\n16 March 2026\nNapier War Memorial Centre\n48 Marine Parade\,\nNapier \nSESOC\, in collaboration with HERA\, is presenting a seminar on Steel Portal Frame Design. Join Dr Kaveh Andisheh and Dr Mayank Shrivastava as they present an in-depth coverage of the major issues surrounding the analysis and design of portal frames. The seminar aims to provide practical insights into the design of steel portal frame buildings\, focusing on structural behaviour\, loadings and connection detailing. \nSeminar Coverage and objectives \n\nDesign principles and structural behaviour of portal frame buildings\nLoading\, load paths\, and stability considerations\nConnection details\nBest practice for safe\, efficient\, and cost-effective design\nCase studies highlighting practical applications\n\nThis seminar is going to Wellington\, Queenstown\, Christchurch\, Napier\, Hamilton\, Auckland and Whangarei \nInvestment details\nSESOC & HERA Member Registration- $400 + GST\nNon-member Registration – $500 + GST \nRegister Now \nSingle Registration  \nGroup Registration (group discount available through this link)  \nFor more details\, check out this SESOC_Stee Portal Frame_e brochure \nFor 2026 seminars\, SESOC is offering a group discount that applies to both SESOC members and Non-members on a single-transaction basis. \n10% off the original price for the 2nd attendee\n15% off the original price for the 3rd attendee\n20% off the original price for the 4th attendee and onwards.
URL:https://www.sesoc.org.nz/event/spfd_nap
LOCATION:Napier War Memorial Centre\, 48 Marine Parade\, Napier\, New Zealand
CATEGORIES:Napier,Seminar
END:VEVENT
END:VCALENDAR